BEGIN:VCALENDAR
VERSION:2.0
PRODID:-//eventon.com NONSGML v1.0//EN
CALSCALE:GREGORIAN
METHOD:PUBLISH
BEGIN:VEVENT
UID:69e61bdb7dae5
DTSTAMP:20260420T142811
DTSTART:20200307T130000Z
DTEND:20200307T180000Z
LOCATION:Kellenberger AG Industriestrasse 10
SUMMARY:Armenischer Kochkurs &#8211; Vegan
END:VEVENT
BEGIN:VEVENT
UID:69e61bdb7dc41
DTSTAMP:20260420T142811
DTSTART:20190323T140000Z
DTEND:20190324T190000Z
LOCATION:Armenischer Schul- und Familien Verein Aarauerstrasse 13\,  5036 Oberentfelden
SUMMARY:HAPPY HOUR PIZZA PLAUSCH
END:VEVENT
BEGIN:VEVENT
UID:69e61bdb7dd45
DTSTAMP:20260420T142811
DTSTART:20190406T130000Z
DTEND:20190406T180000Z
LOCATION:Kellenberger AG Industriestrasse 10
SUMMARY:Armenischer Kochkurs II
END:VEVENT
BEGIN:VEVENT
UID:69e61bdb7de3b
DTSTAMP:20260420T142811
DTSTART:20181124T130000Z
DTEND:20181124T190000Z
LOCATION:Kellenberger AG Industriestrasse 10
SUMMARY:Armenischer Kochkurs
END:VEVENT
BEGIN:VEVENT
UID:69e61bdb7df2a
DTSTAMP:20260420T142811
DTSTART:20181031T220000Z
DTEND:20181215T215900Z
LOCATION: 
SUMMARY:65. Zürcher Wein-Ausstellung
DESCRIPTION: Sehr geehrte Damen und Herren Heres Wine https://www.hereswine.com/ ist ein junges Unternehmen (seit März 2018) mit Schwerpunkt auf Weine aus Armenien. Unser Sortiment besteht derzeit aus über 20 Weiss- und Rotweinen von sechs ausgewählten Produzenten mit hohen Qualitätsansprüchen: Old Bridge Winery\,  Trinity\,  Koor\,  Keush\,  Kataro\,  Van Ardi Firma Heres Wine[..]
END:VEVENT
BEGIN:VEVENT
UID:69e61bdb7e01b
DTSTAMP:20260420T142811
DTSTART:20180920T113400Z
DTEND:20180920T113400Z
LOCATION: 
SUMMARY:
DESCRIPTION: 27 Jahre unabhängige Armenische Republik Liebe Mitglieder und Freunde des Armenischen Schul- und Familienvereins Zur Feier des armenischen Unabhängigkeitstages laden wir Sie herzlich zu einem gemeinsamen Essen im AGUMP ein. Datum/Zeit: Samstag\,  den 23.September 2017 / 18:00 Uhr Wo: AGUMP\,  Aarauerstrasse 13\,  5036 Oberentfelden Menu: Chorovaz Preis: CHF 20.- exkl.[..]
END:VEVENT
BEGIN:VEVENT
UID:69e61bdb7e113
DTSTAMP:20260420T142811
DTSTART:20180708T120000Z
DTEND:20180708T160000Z
LOCATION: 
SUMMARY:Vardavar Waldhausfest A.S.F.V.
DESCRIPTION: Vardavar Waldhausfest 08. Juli 2018 Treffpunkt: Waldhaus Talhof / 5037 Muhen Zeit: 14:00 Uhr Essen: Chorowatz inkl. Softgetränke & Dessert Preis: CHF 20.00 Erw. / CHF 12.00 Kinder 7-12 J. Anmeldefrist: 01. Juli 2018 Kontakt: Tamar Tavli\,  077 447 16 04
END:VEVENT
BEGIN:VEVENT
UID:69e61bdb7e1fd
DTSTAMP:20260420T142811
DTSTART:20180303T170000Z
DTEND:20180302T220000Z
LOCATION: 
SUMMARY:Armenisches Fest A.S.F.V.
DESCRIPTION: Flyer herunterladen
END:VEVENT
BEGIN:VEVENT
UID:69e61bdb7e2f6
DTSTAMP:20260420T142811
DTSTART:20180106T170000Z
DTEND:20180106T200000Z
LOCATION:Armenischer Schul- und Familien Verein Aarauerstrasse 13\,  5036 Oberentfelden
SUMMARY:Armenisches Weihnachtsfest
DESCRIPTION: SHNORHAVOR SURP DZUNUNT Gerne möchten wir mit Euch Weihnachten feiern! Wo: Armenischer Schul Wann: Samstag\,  06 Januar 2018 Zeit: 19:00 Uhr Menü inkl. Dessert 25.&#8211; CHF Anmeldung bis 30. Dezember 2017 bei Tamar Tavli Schul-und Familienverein\,  Oberentfelden Tel. 077&#8217;447&#8217;16&#8217;04 ab 18:00 Uhr Einladung für Weihnachtsfeier herunterladen
END:VEVENT
BEGIN:VEVENT
UID:69e61bdb7e3f3
DTSTAMP:20260420T142811
DTSTART:20180922T170000Z
DTEND:20180922T210000Z
LOCATION:Armenischer Schul- und Familien Verein Aarauerstrasse 13\,  5036 Oberentfelden
SUMMARY:27 Jahre unabhängige Armenische Republik
DESCRIPTION: 27 Jahre unabhängige Armenische Republik Liebe Mitglieder und Freunde des Armenischen Schul- und Familienvereins Zur Feier des armenischen Unabhängigkeitstages laden wir Sie herzlich zu einem gemeinsamen Essen im AGUMP ein. Datum/Zeit: Samstag\,  den 22. September 2018 / 19:00 Uhr Wo: AGUMP\,  Aarauerstrasse 13\,  5036 Oberentfelden Preis: CHF 25.- exkl. Softgetränke[..]
END:VEVENT
END:VCALENDAR